BEGIN:VCALENDAR
VERSION:2.0
CREATED:20260421T145605Z
PRODID:-//Rocky Brands\, Inc./Equisolve Calendar v1.0//EN
METHOD:PUBLISH
BEGIN:VEVENT
UID:ba81d025f9b96e529881d044b3c20bb3
DTSTAMP:20260422T120813Z
DTSTART:20260428T203000Z
DTEND:20260428T213000Z
SUMMARY:Rocky Brands 1Q26 Earnings Conference Call
DESCRIPTION:Rocky Brands 1Q26 Earnings Conference Call
Date: April 28\, 2026 4:30 pm EDT
Webcast: https://viavid.webcasts.com/starthere.jsp?ei=1759239&tp_key=16b3d4fa74
END:VEVENT
END:VCALENDAR
